BEGIN:VCALENDAR
VERSION:2.0
PRODID:-//Port Mcneill - ECPv6.15.18//NONSGML v1.0//EN
CALSCALE:GREGORIAN
METHOD:PUBLISH
X-ORIGINAL-URL:https://portmcneill.ca
X-WR-CALDESC:Events for Port Mcneill
REFRESH-INTERVAL;VALUE=DURATION:PT1H
X-Robots-Tag:noindex
X-PUBLISHED-TTL:PT1H
BEGIN:VTIMEZONE
TZID:America/Vancouver
BEGIN:DAYLIGHT
TZOFFSETFROM:-0800
TZOFFSETTO:-0700
TZNAME:PDT
DTSTART:20210314T100000
END:DAYLIGHT
BEGIN:STANDARD
TZOFFSETFROM:-0700
TZOFFSETTO:-0800
TZNAME:PST
DTSTART:20211107T090000
END:STANDARD
BEGIN:DAYLIGHT
TZOFFSETFROM:-0800
TZOFFSETTO:-0700
TZNAME:PDT
DTSTART:20220313T100000
END:DAYLIGHT
BEGIN:STANDARD
TZOFFSETFROM:-0700
TZOFFSETTO:-0800
TZNAME:PST
DTSTART:20221106T090000
END:STANDARD
BEGIN:DAYLIGHT
TZOFFSETFROM:-0800
TZOFFSETTO:-0700
TZNAME:PDT
DTSTART:20230312T100000
END:DAYLIGHT
BEGIN:STANDARD
TZOFFSETFROM:-0700
TZOFFSETTO:-0800
TZNAME:PST
DTSTART:20231105T090000
END:STANDARD
END:VTIMEZONE
BEGIN:VEVENT
DTSTART;TZID=America/Vancouver:20220701T110000
DTEND;TZID=America/Vancouver:20220701T163000
DTSTAMP:20260424T071041
CREATED:20220617T202218Z
LAST-MODIFIED:20220617T214302Z
UID:3836-1656673200-1656693000@portmcneill.ca
SUMMARY:Canada Day Community Celebration
DESCRIPTION:Join us as we spend a day together as a community\, sharing moments and creating memories. \nIf you would like to get involved and volunteer\, please reach out to Chris at cwoo@portmcneill.ca \nLooking forward to seeing everyone together! \nCanada Day Community Celebration 2022
URL:https://portmcneill.ca/event/canada-day-community-celebration/
LOCATION:Community Hall\, 1473 Broughton Blvd\, Port McNeill\, British Columbia\, V0N 2R0\, Canada
CATEGORIES:Community Events
ATTACH;FMTTYPE=image/jpeg:https://portmcneill.ca/wp-content/uploads/2022/06/Port-McNeill-Posters-1.jpg
ORGANIZER;CN="Town of Port McNeill":MAILTO:admin@portmcneill.ca
END:VEVENT
END:VCALENDAR