BEGIN:VCALENDAR
VERSION:2.0
PRODID:-//Port Mcneill - ECPv6.15.18//NONSGML v1.0//EN
CALSCALE:GREGORIAN
METHOD:PUBLISH
X-ORIGINAL-URL:https://portmcneill.ca
X-WR-CALDESC:Events for Port Mcneill
REFRESH-INTERVAL;VALUE=DURATION:PT1H
X-Robots-Tag:noindex
X-PUBLISHED-TTL:PT1H
BEGIN:VTIMEZONE
TZID:America/Vancouver
BEGIN:DAYLIGHT
TZOFFSETFROM:-0800
TZOFFSETTO:-0700
TZNAME:PDT
DTSTART:20220313T100000
END:DAYLIGHT
BEGIN:STANDARD
TZOFFSETFROM:-0700
TZOFFSETTO:-0800
TZNAME:PST
DTSTART:20221106T090000
END:STANDARD
BEGIN:DAYLIGHT
TZOFFSETFROM:-0800
TZOFFSETTO:-0700
TZNAME:PDT
DTSTART:20230312T100000
END:DAYLIGHT
BEGIN:STANDARD
TZOFFSETFROM:-0700
TZOFFSETTO:-0800
TZNAME:PST
DTSTART:20231105T090000
END:STANDARD
BEGIN:DAYLIGHT
TZOFFSETFROM:-0800
TZOFFSETTO:-0700
TZNAME:PDT
DTSTART:20240310T100000
END:DAYLIGHT
BEGIN:STANDARD
TZOFFSETFROM:-0700
TZOFFSETTO:-0800
TZNAME:PST
DTSTART:20241103T090000
END:STANDARD
END:VTIMEZONE
BEGIN:VEVENT
DTSTART;TZID=America/Vancouver:20230307T110000
DTEND;TZID=America/Vancouver:20230307T150000
DTSTAMP:20260423T182827
CREATED:20230223T002343Z
LAST-MODIFIED:20230223T002343Z
UID:4575-1678186800-1678201200@portmcneill.ca
SUMMARY:Port Hardy Inclusive & Fully Accessible Job Fair
DESCRIPTION:Port Hardy Inclusive & Fully Accessible Job Fair \nTuesday\, March 7\, 2023\, 11 am – 3 pm \nPort Hardy Civic Centre \n\nFree to attend\nFully accessible facility\nWelcoming jobseekers of all ages & abilities\nMeet employers with current job openings\nTalk to Community Service Organizations\n\nGet information on programs & services\nLearn about employment opportunities\n\n\n\nBring your resume & connect with area employers hiring right now!
URL:https://portmcneill.ca/event/port-hardy-inclusive-fully-accessible-job-fair/
LOCATION:Port Hardy Civic Centre\, 7450 Columbia Street\, Port Hardy\, British Columbia\, V0N 2P0\, Canada
CATEGORIES:Training & Development
ATTACH;FMTTYPE=image/png:https://portmcneill.ca/wp-content/uploads/2023/02/PH-Job-Fair-4-IG-_0.png
ORGANIZER;CN="NIEFS":MAILTO:phinfo@niefs.net
END:VEVENT
END:VCALENDAR