BEGIN:VCALENDAR
VERSION:2.0
PRODID:-//Port Mcneill - ECPv6.15.18//NONSGML v1.0//EN
CALSCALE:GREGORIAN
METHOD:PUBLISH
X-WR-CALNAME:Port Mcneill
X-ORIGINAL-URL:https://portmcneill.ca
X-WR-CALDESC:Events for Port Mcneill
REFRESH-INTERVAL;VALUE=DURATION:PT1H
X-Robots-Tag:noindex
X-PUBLISHED-TTL:PT1H
BEGIN:VTIMEZONE
TZID:America/Vancouver
BEGIN:DAYLIGHT
TZOFFSETFROM:-0800
TZOFFSETTO:-0700
TZNAME:PDT
DTSTART:20220313T100000
END:DAYLIGHT
BEGIN:STANDARD
TZOFFSETFROM:-0700
TZOFFSETTO:-0800
TZNAME:PST
DTSTART:20221106T090000
END:STANDARD
BEGIN:DAYLIGHT
TZOFFSETFROM:-0800
TZOFFSETTO:-0700
TZNAME:PDT
DTSTART:20230312T100000
END:DAYLIGHT
BEGIN:STANDARD
TZOFFSETFROM:-0700
TZOFFSETTO:-0800
TZNAME:PST
DTSTART:20231105T090000
END:STANDARD
BEGIN:DAYLIGHT
TZOFFSETFROM:-0800
TZOFFSETTO:-0700
TZNAME:PDT
DTSTART:20240310T100000
END:DAYLIGHT
BEGIN:STANDARD
TZOFFSETFROM:-0700
TZOFFSETTO:-0800
TZNAME:PST
DTSTART:20241103T090000
END:STANDARD
END:VTIMEZONE
BEGIN:VEVENT
DTSTART;TZID=America/Vancouver:20230701T110000
DTEND;TZID=America/Vancouver:20230701T163000
DTSTAMP:20260423T122507
CREATED:20230621T033937Z
LAST-MODIFIED:20230621T033937Z
UID:4861-1688209200-1688229000@portmcneill.ca
SUMMARY:Canada Day
DESCRIPTION:Join us on Saturday\, July 1 2023 as we celebrate Canada Day.  \n11:00am – Childrens Bicycle Parade \n11:30am – 1:30pm – BBQ \n11:15am – 4:30pm – Bounce House\, Obstacle Course\, Music & More!  \nLooking forward to seeing you all there! \nFor more information or to volunteer\, please contact community@portmcneill.ca 
URL:https://portmcneill.ca/event/canada-day/
LOCATION:Visitor Information Centre
CATEGORIES:Community Events
ATTACH;FMTTYPE=image/jpeg:https://portmcneill.ca/wp-content/uploads/2023/06/Port-McNeill-Posters-14.jpg
END:VEVENT
BEGIN:VEVENT
DTSTART;TZID=America/Vancouver:20230728T100000
DTEND;TZID=America/Vancouver:20230728T110000
DTSTAMP:20260423T122507
CREATED:20230724T214031Z
LAST-MODIFIED:20230724T214031Z
UID:4971-1690538400-1690542000@portmcneill.ca
SUMMARY:Peter Puffin's Whale Tales
DESCRIPTION:Friday\, July 28\, 2023\nTime:\n10:00 am – 11:00 am\n\nBranch: Port McNeill\nVenue: Gate House Theatre\nAudience: Children\, Families\n\n\n\n\nPeter Puffin brings his upbeat interactive show to Port McNeill as we celebrate Summer Reading Club! You can sing along\, dance\, play percussion instruments\, wear wacky wildlife costumes\, and so much more! Peter engages all ages with his catchy blend of bluesy folk and up-tempo\, interactive\, heartfelt songs. \nThe concession will be open\, with all proceeds going to the Gate House Theatre Community Association. Join the fun! \n__________________________________________________________ \nPeter has been performing for over 15 years and he has won many awards\, including a Juno. His legion of fans are “Proud Like a Mountain” knowing he is out there creating music that makes a difference for all of us. \nTo learn more about Peter Puffin visit: https://puffinsongs.com/home. \nQuestion? Call us at 250.956.3669 \nIn partnership with Mount Waddington Family Literacy Society.
URL:https://portmcneill.ca/event/peter-puffins-whale-tales/
LOCATION:Gate House Theatre\, 1705 Campbell Way\, Port McNeill\, British Columbia\, V0N2R0\, Canada
CATEGORIES:Community Events
ATTACH;FMTTYPE=image/png:https://portmcneill.ca/wp-content/uploads/2023/07/peter-puffin-port-mcneill.png
END:VEVENT
BEGIN:VEVENT
DTSTART;TZID=America/Vancouver:20230729T110000
DTEND;TZID=America/Vancouver:20230729T210000
DTSTAMP:20260423T122507
CREATED:20230726T043139Z
LAST-MODIFIED:20230726T043139Z
UID:4979-1690628400-1690664400@portmcneill.ca
SUMMARY:Art in the Park
DESCRIPTION:We have kids activities\, yoga\, music\, circus arts\, artists\, Mother Goose and more. \nSaturday\, July 29 11:00am -9:00pm @ Port McNeill waterfront. \nWE ARE IN NEED OF VOLUNTEERS to make this event happen each year. \nengagingartsociety@hotmail.com \n 
URL:https://portmcneill.ca/event/art-in-the-park/
LOCATION:British Columbia
CATEGORIES:Arts & Culture,Community Events
ATTACH;FMTTYPE=image/jpeg:https://portmcneill.ca/wp-content/uploads/2023/07/Art-in-the-Park.jpg
END:VEVENT
END:VCALENDAR