BEGIN:VCALENDAR
VERSION:2.0
PRODID:-//Port Mcneill - ECPv6.15.18//NONSGML v1.0//EN
CALSCALE:GREGORIAN
METHOD:PUBLISH
X-WR-CALNAME:Port Mcneill
X-ORIGINAL-URL:https://portmcneill.ca
X-WR-CALDESC:Events for Port Mcneill
REFRESH-INTERVAL;VALUE=DURATION:PT1H
X-Robots-Tag:noindex
X-PUBLISHED-TTL:PT1H
BEGIN:VTIMEZONE
TZID:America/Vancouver
BEGIN:DAYLIGHT
TZOFFSETFROM:-0800
TZOFFSETTO:-0700
TZNAME:PDT
DTSTART:20230312T100000
END:DAYLIGHT
BEGIN:STANDARD
TZOFFSETFROM:-0700
TZOFFSETTO:-0800
TZNAME:PST
DTSTART:20231105T090000
END:STANDARD
BEGIN:DAYLIGHT
TZOFFSETFROM:-0800
TZOFFSETTO:-0700
TZNAME:PDT
DTSTART:20240310T100000
END:DAYLIGHT
BEGIN:STANDARD
TZOFFSETFROM:-0700
TZOFFSETTO:-0800
TZNAME:PST
DTSTART:20241103T090000
END:STANDARD
BEGIN:DAYLIGHT
TZOFFSETFROM:-0800
TZOFFSETTO:-0700
TZNAME:PDT
DTSTART:20250309T100000
END:DAYLIGHT
BEGIN:STANDARD
TZOFFSETFROM:-0700
TZOFFSETTO:-0800
TZNAME:PST
DTSTART:20251102T090000
END:STANDARD
END:VTIMEZONE
BEGIN:VEVENT
DTSTART;TZID=America/Vancouver:20240403T183000
DTEND;TZID=America/Vancouver:20240403T183000
DTSTAMP:20260420T180215
CREATED:20240328T162748Z
LAST-MODIFIED:20240328T162748Z
UID:5722-1712169000-1712169000@portmcneill.ca
SUMMARY:Town Council Open House
DESCRIPTION:
URL:https://portmcneill.ca/event/town-council-open-house/
LOCATION:Community Hall\, 1473 Broughton Blvd\, Port McNeill\, British Columbia\, V0N 2R0\, Canada
CATEGORIES:Community Events
ORGANIZER;CN="Town of Port McNeill":MAILTO:reception@portmcneill.ca
END:VEVENT
BEGIN:VEVENT
DTSTART;TZID=America/Vancouver:20240419T103000
DTEND;TZID=America/Vancouver:20240419T120000
DTSTAMP:20260420T180215
CREATED:20240404T050308Z
LAST-MODIFIED:20240413T023215Z
UID:5732-1713522600-1713528000@portmcneill.ca
SUMMARY:High Ground Hike
DESCRIPTION:Tsunami Preparedness Week is April 14 – 20.\n \nDo you know what to do if there is a tsunami alert in Port McNeill?\n \n\n\nJoin us for a High Ground Hike on April 19 at 10:30am to practice getting to a tsunami-safe location at “high ground”.\n\n \nWin a 4 person Emergency Kit! Donated by the Ministry of Emergency Management & Climate Readiness\n \n\nLearn more about tsunami preparedness at #PreparedBC .ca/tsunamis\n\n \n\nClick here for your downloadable Route Map \n \nLink to Alltrails
URL:https://portmcneill.ca/event/high-ground-hike-2/
LOCATION:Port McNeill Clock Tower\, 1594 Beach Drive\, Port McNeill\, BC\, V0N2R0\, Canada
CATEGORIES:Community Events
ATTACH;FMTTYPE=image/png:https://portmcneill.ca/wp-content/uploads/2024/04/Town-Log-Ad.png
ORGANIZER;CN="Town of Port McNeill":MAILTO:reception@portmcneill.ca
END:VEVENT
BEGIN:VEVENT
DTSTART;TZID=America/Vancouver:20240426T190000
DTEND;TZID=America/Vancouver:20240426T210000
DTSTAMP:20260420T180215
CREATED:20240109T184524Z
LAST-MODIFIED:20240426T231541Z
UID:5315-1714158000-1714165200@portmcneill.ca
SUMMARY:Gate House Community Association presents The Ever After
DESCRIPTION:Gate House Community Association presents \nThe Ever After \nThe Gate House Community Association Junior After School Drama Program is back with this fairytale talk-show featuring well-known and loved characters including Cinderella and her step-sisters\, the magic mirror\, and Snow White.  \nApril 26\, 2024 @ 7pm & April 27\, 2024 @ 2pm & 7pm
URL:https://portmcneill.ca/event/gate-house-community-association-presents-the-ever-after-3/
LOCATION:Gate House Theatre\, 1705 Campbell Way\, Port McNeill\, British Columbia\, V0N2R0\, Canada
CATEGORIES:Arts & Culture,Community Events
ATTACH;FMTTYPE=image/jpeg:https://portmcneill.ca/wp-content/uploads/2024/01/Ever-After-Logo-002.jpg
ORGANIZER;CN="Gate House Theatre":MAILTO:info@gatehouseca.org
END:VEVENT
BEGIN:VEVENT
DTSTART;TZID=America/Vancouver:20240427T140000
DTEND;TZID=America/Vancouver:20240427T160000
DTSTAMP:20260420T180215
CREATED:20240109T184320Z
LAST-MODIFIED:20240426T231935Z
UID:5313-1714226400-1714233600@portmcneill.ca
SUMMARY:Gate House Community Association presents The Ever After
DESCRIPTION:Gate House Community Association presents \nThe Ever After \nThe Gate House Community Association Junior After School Drama Program is back with this fairytale talk-show featuring well-known and loved characters including Cinderella and her step-sisters\, the magic mirror\, and Snow White.  \nApril 26\, 2024 @ 7pm & April 27\, 2024 @ 2pm & 7pm
URL:https://portmcneill.ca/event/gate-house-community-association-presents-the-ever-after-2/
LOCATION:Gate House Theatre\, 1705 Campbell Way\, Port McNeill\, British Columbia\, V0N2R0\, Canada
CATEGORIES:Arts & Culture,Community Events
ATTACH;FMTTYPE=image/jpeg:https://portmcneill.ca/wp-content/uploads/2024/01/Ever-After-Logo-002.jpg
ORGANIZER;CN="Gate House Theatre":MAILTO:info@gatehouseca.org
END:VEVENT
BEGIN:VEVENT
DTSTART;TZID=America/Vancouver:20240427T190000
DTEND;TZID=America/Vancouver:20240427T210000
DTSTAMP:20260420T180215
CREATED:20240109T184114Z
LAST-MODIFIED:20240426T232959Z
UID:5311-1714244400-1714251600@portmcneill.ca
SUMMARY:Gate House Community Association presents The Ever After
DESCRIPTION:Gate House Community Association presents \nThe Ever After \nThe Gate House Community Association Junior After School Drama Program is back with this fairytale talk-show featuring well-known and loved characters including Cinderella and her step-sisters\, the magic mirror\, and Snow White.  \nApril 26\, 2024 @ 7pm & April 27\, 2024 @ 2pm & 7pm
URL:https://portmcneill.ca/event/gate-house-community-association-presents-the-ever-after/
LOCATION:Gate House Theatre\, 1705 Campbell Way\, Port McNeill\, British Columbia\, V0N2R0\, Canada
CATEGORIES:Arts & Culture,Community Events
ATTACH;FMTTYPE=image/jpeg:https://portmcneill.ca/wp-content/uploads/2024/01/Ever-After-Logo-002.jpg
ORGANIZER;CN="Gate House Theatre":MAILTO:info@gatehouseca.org
END:VEVENT
BEGIN:VEVENT
DTSTART;TZID=America/Vancouver:20240430T183000
DTEND;TZID=America/Vancouver:20240430T193000
DTSTAMP:20260420T180215
CREATED:20240429T211432Z
LAST-MODIFIED:20240429T211432Z
UID:5823-1714501800-1714505400@portmcneill.ca
SUMMARY:Conversation Club!
DESCRIPTION:Join us for casual converation and connections. \nThis is a FREE Drop-in event. No registration\, and all are welcome! \nContact Steph Coe\, Adult Literacy Coordinator \n250-902-8898 \nmwadultliteracy@gmail.com 
URL:https://portmcneill.ca/event/conversation-club/
LOCATION:Port McNeill Museum
CATEGORIES:Community Events,Training & Development
ATTACH;FMTTYPE=image/png:https://portmcneill.ca/wp-content/uploads/2024/04/CALP-Conversation-Club-PM-8.5x11-Poster_.png
ORGANIZER;CN="Mount Waddington Family Literacy Society":MAILTO:mwadultliteracy@gmail.com
END:VEVENT
END:VCALENDAR