BEGIN:VCALENDAR
VERSION:2.0
PRODID:-//Port Mcneill - ECPv6.15.18//NONSGML v1.0//EN
CALSCALE:GREGORIAN
METHOD:PUBLISH
X-ORIGINAL-URL:https://portmcneill.ca
X-WR-CALDESC:Events for Port Mcneill
REFRESH-INTERVAL;VALUE=DURATION:PT1H
X-Robots-Tag:noindex
X-PUBLISHED-TTL:PT1H
BEGIN:VTIMEZONE
TZID:America/Vancouver
BEGIN:DAYLIGHT
TZOFFSETFROM:-0800
TZOFFSETTO:-0700
TZNAME:PDT
DTSTART:20230312T100000
END:DAYLIGHT
BEGIN:STANDARD
TZOFFSETFROM:-0700
TZOFFSETTO:-0800
TZNAME:PST
DTSTART:20231105T090000
END:STANDARD
BEGIN:DAYLIGHT
TZOFFSETFROM:-0800
TZOFFSETTO:-0700
TZNAME:PDT
DTSTART:20240310T100000
END:DAYLIGHT
BEGIN:STANDARD
TZOFFSETFROM:-0700
TZOFFSETTO:-0800
TZNAME:PST
DTSTART:20241103T090000
END:STANDARD
BEGIN:DAYLIGHT
TZOFFSETFROM:-0800
TZOFFSETTO:-0700
TZNAME:PDT
DTSTART:20250309T100000
END:DAYLIGHT
BEGIN:STANDARD
TZOFFSETFROM:-0700
TZOFFSETTO:-0800
TZNAME:PST
DTSTART:20251102T090000
END:STANDARD
BEGIN:DAYLIGHT
TZOFFSETFROM:-0800
TZOFFSETTO:-0700
TZNAME:PDT
DTSTART:20260308T100000
END:DAYLIGHT
BEGIN:STANDARD
TZOFFSETFROM:-0700
TZOFFSETTO:-0800
TZNAME:PST
DTSTART:20261101T090000
END:STANDARD
END:VTIMEZONE
BEGIN:VEVENT
DTSTART;TZID=America/Vancouver:20241201T170000
DTEND;TZID=America/Vancouver:20241201T190000
DTSTAMP:20260420T061829
CREATED:20241114T002247Z
LAST-MODIFIED:20241130T045227Z
UID:6225-1733072400-1733079600@portmcneill.ca
SUMMARY:Town Light Up
DESCRIPTION:On Sunday\, December 1st\, we would like to kick off the Holiday Season with the greatest light up we have ever had! We would like to incorporate a couple different things this year\, so here is the scoop on what we are hoping to achieve. \nFamily Movie Night \nWe will then kickoff our Light Up evening\, with a Family Friendly movie at the Gate House Theatre at 5:00pm. After the movie\, we will flip the switches at 7:00pm and turn on those lights for everyone to see. \nFestival of Trees \nWe also encourage you to participate in the Parade of Trees! Let’s get people into your stores to check out your beautiful displays. We will take pictures of trees from all participants and advertise them on our Town Light Up Facebook page. \nLight Tunnel \nWe would also like to do a light tunnel this year\, creating a nice long walkway for people to enjoy. If this is something you’d like to assist with\, we would love your support in purchasing some of the materials we need to put this together. If you’d like to sponsor an arch\, please let us know. \nElf off the Shelf \nWe all know the tradition of the Elves on Shelves and we would like to take them on a little detour in Port McNeill this year.  Meet Portia and Mac\, the newest elves to Port McNeill. Portia and Mac will appear in new locations every Saturday for people to find\, and we would like to promote local businesses through this event. We encourage your participation by having specials or sales on each Saturday\, enticing people into your doors. We will post clues on Saturday mornings on our Social Media page\, with the intention of each business engaging with this post and sharing what deals the elves have brought to your store. \nLight Up is 7pm on Sunday\, December 1st \nPlease hold off on turning your lights on until that time. It can really help give our community a more magical experience. \n 
URL:https://portmcneill.ca/event/town-light-up-2/
LOCATION:British Columbia
CATEGORIES:Community Events
ATTACH;FMTTYPE=image/png:https://portmcneill.ca/wp-content/uploads/2024/11/TOPM-Facebook-Posts-2024-11-13T150847.974.png
END:VEVENT
BEGIN:VEVENT
DTSTART;TZID=America/Vancouver:20241207T100000
DTEND;TZID=America/Vancouver:20241207T180000
DTSTAMP:20260420T061829
CREATED:20241113T221649Z
LAST-MODIFIED:20241113T221649Z
UID:6214-1733565600-1733594400@portmcneill.ca
SUMMARY:RCMP - Cram the Cruiser
DESCRIPTION:Bring your non-perishable food items or cash donations and cram them into our cruiser. All proceeds go directly to the A-Frame Food Distribution to support their food programs on the North Island.
URL:https://portmcneill.ca/event/rcmp-cram-the-cruiser/
LOCATION:IGA\, 1705 Campbell Way\, Port McNeill\, British Columbia\, V0N2R0\, Canada
CATEGORIES:Community Events
ATTACH;FMTTYPE=image/png:https://portmcneill.ca/wp-content/uploads/2024/11/Cram-the-Cruiser-2023-2.png
END:VEVENT
BEGIN:VEVENT
DTSTART;TZID=America/Vancouver:20241214T140000
DTEND;TZID=America/Vancouver:20241214T160000
DTSTAMP:20260420T061829
CREATED:20241128T170729Z
LAST-MODIFIED:20241128T170729Z
UID:6243-1734184800-1734192000@portmcneill.ca
SUMMARY:The Muppet Christmas Mayhem Concert & Singalong
DESCRIPTION:Join The Voice Collective for an afternoon of musical muppet fun!  \nSing some favorites… feel some joy in your heart.
URL:https://portmcneill.ca/event/the-muppet-christmas-mayhem-concert-singalong/
LOCATION:Port McNeill Community Hall\, 1473 Broughton Blvd\, Port McNeill\, British Columbia\, V0N 2R0\, Canada
CATEGORIES:Arts & Culture,Community Events
ATTACH;FMTTYPE=image/jpeg:https://portmcneill.ca/wp-content/uploads/2024/11/Muppet-Christmas-Mayhem-Poster-US-2-002.jpg
ORGANIZER;CN="The Voice Collective":MAILTO:chelsea@chelseaedwardson.com
END:VEVENT
BEGIN:VEVENT
DTSTART;TZID=America/Vancouver:20241219T193000
DTEND;TZID=America/Vancouver:20241219T213000
DTSTAMP:20260420T061829
CREATED:20241128T051747Z
LAST-MODIFIED:20241128T051747Z
UID:6249-1734636600-1734643800@portmcneill.ca
SUMMARY:Winter Meditation
DESCRIPTION:Embrace the darkest day of the year with a selection of pensive winter songs. \nThursday December 19th at the Gate House Theatre in Port McNeill \nFriday December 20th at the Sointula Athletic Hall in Sointula
URL:https://portmcneill.ca/event/winter-meditation/
LOCATION:Gate House Theatre\, 1705 Campbell Way\, Port McNeill\, British Columbia\, V0N2R0\, Canada
CATEGORIES:Arts & Culture,Community Events
ATTACH;FMTTYPE=image/jpeg:https://portmcneill.ca/wp-content/uploads/2024/11/Winter-Meditation-1-002.jpg
ORGANIZER;CN="Chelsea Edwardson":MAILTO:chelsea@chelseaedwardson.com
END:VEVENT
BEGIN:VEVENT
DTSTART;TZID=America/Vancouver:20241222T180000
DTEND;TZID=America/Vancouver:20241222T200000
DTSTAMP:20260420T061829
CREATED:20241113T225330Z
LAST-MODIFIED:20241113T233712Z
UID:6217-1734890400-1734897600@portmcneill.ca
SUMMARY:First Responders Holiday Parade
DESCRIPTION:Enjoy the Annual First Responders Holiday Parade!  \nThe Port McNeill Policing Society will be serving Hot Chocolate and Hot Dogs Downtown\, to be joined by a special Visit from Santa after the Parade.
URL:https://portmcneill.ca/event/first-responders-holiday-parade/
LOCATION:IGA\, 1705 Campbell Way\, Port McNeill\, British Columbia\, V0N2R0\, Canada
CATEGORIES:Community Events
ATTACH;FMTTYPE=image/png:https://portmcneill.ca/wp-content/uploads/2024/11/First-Responder-Parade-3-1.png
ORGANIZER;CN="Port McNeill Fire Rescue":MAILTO:firechief@portmcneill.ca
END:VEVENT
BEGIN:VEVENT
DTSTART;TZID=America/Vancouver:20241231T200000
DTEND;TZID=America/Vancouver:20250101T010000
DTSTAMP:20260420T061829
CREATED:20241211T005721Z
LAST-MODIFIED:20241211T005721Z
UID:6273-1735675200-1735693200@portmcneill.ca
SUMMARY:A New Year's Eve Rock 'N' Roll Dance Party
DESCRIPTION:Looking for a fun night out for New Year’s Eve? Look no further and get your tickets for the New Year’s Eve Rock ‘N’ Roll Dance Party at the Gate House! \nFeaturing Live Musical Performances by Vintage Hearts\, Whiskey Jacks\, and Sidewinder!
URL:https://portmcneill.ca/event/a-new-years-eve-rock-n-roll-dance-party/
LOCATION:Gate House Theatre\, 1705 Campbell Way\, Port McNeill\, British Columbia\, V0N2R0\, Canada
CATEGORIES:Arts & Culture,Community Events
ATTACH;FMTTYPE=image/png:https://portmcneill.ca/wp-content/uploads/2024/12/Port-McNeill-Letterhead-11.png
ORGANIZER;CN="Gate House Theatre":MAILTO:info@gatehouseca.org
END:VEVENT
BEGIN:VEVENT
DTSTART;TZID=America/Vancouver:20241231T210000
DTEND;TZID=America/Vancouver:20250101T001500
DTSTAMP:20260420T061829
CREATED:20241126T220421Z
LAST-MODIFIED:20241209T182844Z
UID:6237-1735678800-1735690500@portmcneill.ca
SUMMARY:Teen's New Year Party!
DESCRIPTION:Hey Port McNeill Teens! \nAre you looking for something to do for New Year’s Eve? Would you like to have an exclusive party\, for High School students only? \nCome Celebrate New Year’s Eve at the Port McNeill Old School as we prepare to kick off 2025 with the re-opening of the Port McNeill Teen Centre! \nWe will have Free Food\, Entertainment\, Games (Video Games & Board Games) and Music! \nThere will be Cotton Candy\, Snow Cones and Photo Buttons\, not to mention the Wrecking Ball Inflatable! \nIf you’d like to get involved\, please reach out to community@portmcneill.ca \n 
URL:https://portmcneill.ca/event/teens-new-year-party/
LOCATION:Port McNeill Old School\, 375 Shelley Crescent\, Port McNeill\, British Columbia\, V0N 2R0\, Canada
CATEGORIES:Community Events
ATTACH;FMTTYPE=image/png:https://portmcneill.ca/wp-content/uploads/2024/11/Teen-New-Year-Party-1.png
ORGANIZER;CN="Town of Port McNeill":MAILTO:admin@portmcneill.ca
END:VEVENT
END:VCALENDAR