BEGIN:VCALENDAR
VERSION:2.0
PRODID:-//Port Mcneill - ECPv6.15.18//NONSGML v1.0//EN
CALSCALE:GREGORIAN
METHOD:PUBLISH
X-WR-CALNAME:Port Mcneill
X-ORIGINAL-URL:https://portmcneill.ca
X-WR-CALDESC:Events for Port Mcneill
REFRESH-INTERVAL;VALUE=DURATION:PT1H
X-Robots-Tag:noindex
X-PUBLISHED-TTL:PT1H
BEGIN:VTIMEZONE
TZID:America/Vancouver
BEGIN:DAYLIGHT
TZOFFSETFROM:-0800
TZOFFSETTO:-0700
TZNAME:PDT
DTSTART:20230312T100000
END:DAYLIGHT
BEGIN:STANDARD
TZOFFSETFROM:-0700
TZOFFSETTO:-0800
TZNAME:PST
DTSTART:20231105T090000
END:STANDARD
BEGIN:DAYLIGHT
TZOFFSETFROM:-0800
TZOFFSETTO:-0700
TZNAME:PDT
DTSTART:20240310T100000
END:DAYLIGHT
BEGIN:STANDARD
TZOFFSETFROM:-0700
TZOFFSETTO:-0800
TZNAME:PST
DTSTART:20241103T090000
END:STANDARD
BEGIN:DAYLIGHT
TZOFFSETFROM:-0800
TZOFFSETTO:-0700
TZNAME:PDT
DTSTART:20250309T100000
END:DAYLIGHT
BEGIN:STANDARD
TZOFFSETFROM:-0700
TZOFFSETTO:-0800
TZNAME:PST
DTSTART:20251102T090000
END:STANDARD
BEGIN:DAYLIGHT
TZOFFSETFROM:-0800
TZOFFSETTO:-0700
TZNAME:PDT
DTSTART:20260308T100000
END:DAYLIGHT
BEGIN:STANDARD
TZOFFSETFROM:-0700
TZOFFSETTO:-0800
TZNAME:PST
DTSTART:20261101T090000
END:STANDARD
END:VTIMEZONE
BEGIN:VEVENT
DTSTART;TZID=America/Vancouver:20241231T200000
DTEND;TZID=America/Vancouver:20250101T010000
DTSTAMP:20260420T044943
CREATED:20241211T005721Z
LAST-MODIFIED:20241211T005721Z
UID:6273-1735675200-1735693200@portmcneill.ca
SUMMARY:A New Year's Eve Rock 'N' Roll Dance Party
DESCRIPTION:Looking for a fun night out for New Year’s Eve? Look no further and get your tickets for the New Year’s Eve Rock ‘N’ Roll Dance Party at the Gate House! \nFeaturing Live Musical Performances by Vintage Hearts\, Whiskey Jacks\, and Sidewinder!
URL:https://portmcneill.ca/event/a-new-years-eve-rock-n-roll-dance-party/
LOCATION:Gate House Theatre\, 1705 Campbell Way\, Port McNeill\, British Columbia\, V0N2R0\, Canada
CATEGORIES:Arts & Culture,Community Events
ATTACH;FMTTYPE=image/png:https://portmcneill.ca/wp-content/uploads/2024/12/Port-McNeill-Letterhead-11.png
ORGANIZER;CN="Gate House Theatre":MAILTO:info@gatehouseca.org
END:VEVENT
BEGIN:VEVENT
DTSTART;TZID=America/Vancouver:20241231T210000
DTEND;TZID=America/Vancouver:20250101T001500
DTSTAMP:20260420T044943
CREATED:20241126T220421Z
LAST-MODIFIED:20241209T182844Z
UID:6237-1735678800-1735690500@portmcneill.ca
SUMMARY:Teen's New Year Party!
DESCRIPTION:Hey Port McNeill Teens! \nAre you looking for something to do for New Year’s Eve? Would you like to have an exclusive party\, for High School students only? \nCome Celebrate New Year’s Eve at the Port McNeill Old School as we prepare to kick off 2025 with the re-opening of the Port McNeill Teen Centre! \nWe will have Free Food\, Entertainment\, Games (Video Games & Board Games) and Music! \nThere will be Cotton Candy\, Snow Cones and Photo Buttons\, not to mention the Wrecking Ball Inflatable! \nIf you’d like to get involved\, please reach out to community@portmcneill.ca \n 
URL:https://portmcneill.ca/event/teens-new-year-party/
LOCATION:Port McNeill Old School\, 375 Shelley Crescent\, Port McNeill\, British Columbia\, V0N 2R0\, Canada
CATEGORIES:Community Events
ATTACH;FMTTYPE=image/png:https://portmcneill.ca/wp-content/uploads/2024/11/Teen-New-Year-Party-1.png
ORGANIZER;CN="Town of Port McNeill":MAILTO:admin@portmcneill.ca
END:VEVENT
BEGIN:VEVENT
DTSTART;TZID=America/Vancouver:20250123T100000
DTEND;TZID=America/Vancouver:20250123T110000
DTSTAMP:20260420T044943
CREATED:20250114T221245Z
LAST-MODIFIED:20250114T221245Z
UID:6382-1737626400-1737630000@portmcneill.ca
SUMMARY:Port McNeill Men's Shed: Information Meeting
DESCRIPTION:Port McNeil Men’s Shed information meeting. \nEveryone is welcome. \nMen’s Sheds are for all men\, the alleviation of isolation and loneliness\, an antidote for depression and PTSD and so much more. \n Learn more about Men’s Sheds  \nPORT McNEIL. 23rd. January. 10am. Room 5 at the Old School.
URL:https://portmcneill.ca/event/port-mcneill-mens-shed-information-meeting/
LOCATION:Port McNeill Old School\, 375 Shelley Crescent\, Port McNeill\, British Columbia\, V0N 2R0\, Canada
CATEGORIES:Community Events,Health & Wellness
ORGANIZER;CN="North Island Community Services Society":MAILTO:reception@nicommunityservices.ca
END:VEVENT
END:VCALENDAR