BEGIN:VCALENDAR
VERSION:2.0
PRODID:-//Port Mcneill - ECPv6.15.18//NONSGML v1.0//EN
CALSCALE:GREGORIAN
METHOD:PUBLISH
X-WR-CALNAME:Port Mcneill
X-ORIGINAL-URL:https://portmcneill.ca
X-WR-CALDESC:Events for Port Mcneill
REFRESH-INTERVAL;VALUE=DURATION:PT1H
X-Robots-Tag:noindex
X-PUBLISHED-TTL:PT1H
BEGIN:VTIMEZONE
TZID:America/Vancouver
BEGIN:DAYLIGHT
TZOFFSETFROM:-0800
TZOFFSETTO:-0700
TZNAME:PDT
DTSTART:20200308T100000
END:DAYLIGHT
BEGIN:STANDARD
TZOFFSETFROM:-0700
TZOFFSETTO:-0800
TZNAME:PST
DTSTART:20201101T090000
END:STANDARD
BEGIN:DAYLIGHT
TZOFFSETFROM:-0800
TZOFFSETTO:-0700
TZNAME:PDT
DTSTART:20210314T100000
END:DAYLIGHT
BEGIN:STANDARD
TZOFFSETFROM:-0700
TZOFFSETTO:-0800
TZNAME:PST
DTSTART:20211107T090000
END:STANDARD
BEGIN:DAYLIGHT
TZOFFSETFROM:-0800
TZOFFSETTO:-0700
TZNAME:PDT
DTSTART:20220313T100000
END:DAYLIGHT
BEGIN:STANDARD
TZOFFSETFROM:-0700
TZOFFSETTO:-0800
TZNAME:PST
DTSTART:20221106T090000
END:STANDARD
END:VTIMEZONE
BEGIN:VEVENT
DTSTART;VALUE=DATE:20211224
DTEND;VALUE=DATE:20211228
DTSTAMP:20260424T022433
CREATED:20211224T170024Z
LAST-MODIFIED:20211224T170915Z
UID:2844-1640304000-1640649599@portmcneill.ca
SUMMARY:Closed for the Holiday!! Merry Christmas!!
DESCRIPTION:
URL:https://portmcneill.ca/event/closed-for-the-holiday-merry-christmas/
LOCATION:Town Office\, 1775 Grenville Place\, Port McNeill\, BC\, V0N 2R0\, Canada
CATEGORIES:Office
ATTACH;FMTTYPE=image/jpeg:https://portmcneill.ca/wp-content/uploads/2021/01/PortMcNeill_Logo-2020.jpg
ORGANIZER;CN="Town of Port McNeill":MAILTO:admin@portmcneill.ca
END:VEVENT
END:VCALENDAR