BEGIN:VCALENDAR
VERSION:2.0
PRODID:-//Port Mcneill - ECPv6.15.18//NONSGML v1.0//EN
CALSCALE:GREGORIAN
METHOD:PUBLISH
X-ORIGINAL-URL:https://portmcneill.ca
X-WR-CALDESC:Events for Port Mcneill
REFRESH-INTERVAL;VALUE=DURATION:PT1H
X-Robots-Tag:noindex
X-PUBLISHED-TTL:PT1H
BEGIN:VTIMEZONE
TZID:America/Vancouver
BEGIN:DAYLIGHT
TZOFFSETFROM:-0800
TZOFFSETTO:-0700
TZNAME:PDT
DTSTART:20210314T100000
END:DAYLIGHT
BEGIN:STANDARD
TZOFFSETFROM:-0700
TZOFFSETTO:-0800
TZNAME:PST
DTSTART:20211107T090000
END:STANDARD
BEGIN:DAYLIGHT
TZOFFSETFROM:-0800
TZOFFSETTO:-0700
TZNAME:PDT
DTSTART:20220313T100000
END:DAYLIGHT
BEGIN:STANDARD
TZOFFSETFROM:-0700
TZOFFSETTO:-0800
TZNAME:PST
DTSTART:20221106T090000
END:STANDARD
BEGIN:DAYLIGHT
TZOFFSETFROM:-0800
TZOFFSETTO:-0700
TZNAME:PDT
DTSTART:20230312T100000
END:DAYLIGHT
BEGIN:STANDARD
TZOFFSETFROM:-0700
TZOFFSETTO:-0800
TZNAME:PST
DTSTART:20231105T090000
END:STANDARD
END:VTIMEZONE
BEGIN:VEVENT
DTSTART;TZID=America/Vancouver:20220330T090000
DTEND;TZID=America/Vancouver:20220330T110000
DTSTAMP:20260423T214118
CREATED:20220329T161124Z
LAST-MODIFIED:20220329T161124Z
UID:3322-1648630800-1648638000@portmcneill.ca
SUMMARY:March 30\, 2022 Budget Committee of the Whole
DESCRIPTION:  \nMarch 30\, 2022 Budget Committee of the Whole \n9:00 AM -11:00 AM \nCouncil Chambers 1775 Furney Place\, Port McNeill B.C. V0N 2R0 \nMarch 30\, 2022 Committee of the Whole – Agenda  \nMicrosoft Teams Link
URL:https://portmcneill.ca/event/march-30-2022-budget-committee-of-the-whole/
LOCATION:Town Office\, 1775 Grenville Place\, Port McNeill\, BC\, V0N 2R0\, Canada
CATEGORIES:Committee of the whole,Office
END:VEVENT
END:VCALENDAR