BEGIN:VCALENDAR
VERSION:2.0
PRODID:-//Port Mcneill - ECPv6.15.18//NONSGML v1.0//EN
CALSCALE:GREGORIAN
METHOD:PUBLISH
X-ORIGINAL-URL:https://portmcneill.ca
X-WR-CALDESC:Events for Port Mcneill
REFRESH-INTERVAL;VALUE=DURATION:PT1H
X-Robots-Tag:noindex
X-PUBLISHED-TTL:PT1H
BEGIN:VTIMEZONE
TZID:America/Vancouver
BEGIN:DAYLIGHT
TZOFFSETFROM:-0800
TZOFFSETTO:-0700
TZNAME:PDT
DTSTART:20190310T100000
END:DAYLIGHT
BEGIN:STANDARD
TZOFFSETFROM:-0700
TZOFFSETTO:-0800
TZNAME:PST
DTSTART:20191103T090000
END:STANDARD
BEGIN:DAYLIGHT
TZOFFSETFROM:-0800
TZOFFSETTO:-0700
TZNAME:PDT
DTSTART:20200308T100000
END:DAYLIGHT
BEGIN:STANDARD
TZOFFSETFROM:-0700
TZOFFSETTO:-0800
TZNAME:PST
DTSTART:20201101T090000
END:STANDARD
BEGIN:DAYLIGHT
TZOFFSETFROM:-0800
TZOFFSETTO:-0700
TZNAME:PDT
DTSTART:20210314T100000
END:DAYLIGHT
BEGIN:STANDARD
TZOFFSETFROM:-0700
TZOFFSETTO:-0800
TZNAME:PST
DTSTART:20211107T090000
END:STANDARD
END:VTIMEZONE
BEGIN:VEVENT
DTSTART;TZID=America/Vancouver:20201112T160000
DTEND;TZID=America/Vancouver:20201112T170000
DTSTAMP:20260423T153505
CREATED:20200922T194033Z
LAST-MODIFIED:20200922T194033Z
UID:175-1605196800-1605200400@portmcneill.ca
SUMMARY:Harbour Advisory Group Meeting
DESCRIPTION:
URL:https://portmcneill.ca/event/harbour-advisory-group-meeting-2/
END:VEVENT
BEGIN:VEVENT
DTSTART;TZID=America/Vancouver:20201119T153000
DTEND;TZID=America/Vancouver:20201119T163000
DTSTAMP:20260423T153505
CREATED:20200922T194433Z
LAST-MODIFIED:20200922T194956Z
UID:177-1605799800-1605803400@portmcneill.ca
SUMMARY:Tourism Advisory Committee Meeting
DESCRIPTION:
URL:https://portmcneill.ca/event/tourism-advisory-committee-meeting-2/
END:VEVENT
END:VCALENDAR