BEGIN:VCALENDAR
VERSION:2.0
PRODID:-//Port Mcneill - ECPv6.15.18//NONSGML v1.0//EN
CALSCALE:GREGORIAN
METHOD:PUBLISH
X-WR-CALNAME:Port Mcneill
X-ORIGINAL-URL:https://portmcneill.ca
X-WR-CALDESC:Events for Port Mcneill
REFRESH-INTERVAL;VALUE=DURATION:PT1H
X-Robots-Tag:noindex
X-PUBLISHED-TTL:PT1H
BEGIN:VTIMEZONE
TZID:America/Vancouver
BEGIN:DAYLIGHT
TZOFFSETFROM:-0800
TZOFFSETTO:-0700
TZNAME:PDT
DTSTART:20200308T100000
END:DAYLIGHT
BEGIN:STANDARD
TZOFFSETFROM:-0700
TZOFFSETTO:-0800
TZNAME:PST
DTSTART:20201101T090000
END:STANDARD
BEGIN:DAYLIGHT
TZOFFSETFROM:-0800
TZOFFSETTO:-0700
TZNAME:PDT
DTSTART:20210314T100000
END:DAYLIGHT
BEGIN:STANDARD
TZOFFSETFROM:-0700
TZOFFSETTO:-0800
TZNAME:PST
DTSTART:20211107T090000
END:STANDARD
BEGIN:DAYLIGHT
TZOFFSETFROM:-0800
TZOFFSETTO:-0700
TZNAME:PDT
DTSTART:20220313T100000
END:DAYLIGHT
BEGIN:STANDARD
TZOFFSETFROM:-0700
TZOFFSETTO:-0800
TZNAME:PST
DTSTART:20221106T090000
END:STANDARD
END:VTIMEZONE
BEGIN:VEVENT
DTSTART;TZID=America/Vancouver:20210601T090000
DTEND;TZID=America/Vancouver:20210601T110000
DTSTAMP:20260423T044951
CREATED:20210528T204030Z
LAST-MODIFIED:20210528T204030Z
UID:1980-1622538000-1622545200@portmcneill.ca
SUMMARY:Covid Recovery Funds Committee Meeting
DESCRIPTION:https://us02web.zoom.us/j/86046627048 \nCovid Recovery Funds Committee – 01 Jun 2021
URL:https://portmcneill.ca/event/covid-recovery-funds-committee-meeting/
LOCATION:Zoom\, Canada
END:VEVENT
BEGIN:VEVENT
DTSTART;TZID=America/Vancouver:20210608T190000
DTEND;TZID=America/Vancouver:20210608T210000
DTSTAMP:20260423T044951
CREATED:20210604T181109Z
LAST-MODIFIED:20210604T181109Z
UID:2010-1623178800-1623186000@portmcneill.ca
SUMMARY:Regular Council Meeting
DESCRIPTION:Zoom Link \nAgenda
URL:https://portmcneill.ca/event/regular-council-meeting-2/
LOCATION:Zoom\, Canada
ATTACH;FMTTYPE=image/png:https://portmcneill.ca/wp-content/uploads/2020/09/council-image.png
ORGANIZER;CN="Town of Port McNeill":MAILTO:reception@portmcneill.ca
END:VEVENT
BEGIN:VEVENT
DTSTART;TZID=America/Vancouver:20210610T190000
DTEND;TZID=America/Vancouver:20210610T203000
DTSTAMP:20260423T044951
CREATED:20210228T223541Z
LAST-MODIFIED:20210228T223541Z
UID:1483-1623351600-1623357000@portmcneill.ca
SUMMARY:Harbour Advisory Meeting
DESCRIPTION:
URL:https://portmcneill.ca/event/harbour-advisory-meeting-3/
LOCATION:Harbour Office\, 1594 Beach Drive\, Port McNeill\, British Columbia\, V0N 2R0\, Canada
CATEGORIES:Port Mcneill Harbour Advisory Group Meetings
END:VEVENT
BEGIN:VEVENT
DTSTART;TZID=America/Vancouver:20210622T190000
DTEND;TZID=America/Vancouver:20210622T210000
DTSTAMP:20260423T044951
CREATED:20210618T212051Z
LAST-MODIFIED:20210618T212051Z
UID:2058-1624388400-1624395600@portmcneill.ca
SUMMARY:June 22\, 2021 Regular Council Meeting
DESCRIPTION:Regular Meeting Agenda \nZoom Webinar 
URL:https://portmcneill.ca/event/june-22-2021-regular-council-meeting/
LOCATION:Zoom\, Canada
ATTACH;FMTTYPE=image/png:https://portmcneill.ca/wp-content/uploads/2020/09/council-image.png
ORGANIZER;CN="Town of Port McNeill":MAILTO:reception@portmcneill.ca
END:VEVENT
END:VCALENDAR