BEGIN:VCALENDAR
VERSION:2.0
PRODID:-//Port Mcneill - ECPv6.15.18//NONSGML v1.0//EN
CALSCALE:GREGORIAN
METHOD:PUBLISH
X-ORIGINAL-URL:https://portmcneill.ca
X-WR-CALDESC:Events for Port Mcneill
REFRESH-INTERVAL;VALUE=DURATION:PT1H
X-Robots-Tag:noindex
X-PUBLISHED-TTL:PT1H
BEGIN:VTIMEZONE
TZID:America/Vancouver
BEGIN:DAYLIGHT
TZOFFSETFROM:-0800
TZOFFSETTO:-0700
TZNAME:PDT
DTSTART:20200308T100000
END:DAYLIGHT
BEGIN:STANDARD
TZOFFSETFROM:-0700
TZOFFSETTO:-0800
TZNAME:PST
DTSTART:20201101T090000
END:STANDARD
BEGIN:DAYLIGHT
TZOFFSETFROM:-0800
TZOFFSETTO:-0700
TZNAME:PDT
DTSTART:20210314T100000
END:DAYLIGHT
BEGIN:STANDARD
TZOFFSETFROM:-0700
TZOFFSETTO:-0800
TZNAME:PST
DTSTART:20211107T090000
END:STANDARD
BEGIN:DAYLIGHT
TZOFFSETFROM:-0800
TZOFFSETTO:-0700
TZNAME:PDT
DTSTART:20220313T100000
END:DAYLIGHT
BEGIN:STANDARD
TZOFFSETFROM:-0700
TZOFFSETTO:-0800
TZNAME:PST
DTSTART:20221106T090000
END:STANDARD
END:VTIMEZONE
BEGIN:VEVENT
DTSTART;VALUE=DATE:20210702
DTEND;VALUE=DATE:20210703
DTSTAMP:20260423T033124
CREATED:20210527T205354Z
LAST-MODIFIED:20210527T205354Z
UID:1969-1625184000-1625270399@portmcneill.ca
SUMMARY:Property Tax Due Date
DESCRIPTION:
URL:https://portmcneill.ca/event/property-tax-due-date/
LOCATION:Town Office\, 1775 Grenville Place\, Port McNeill\, BC\, V0N 2R0\, Canada
ORGANIZER;CN="Town of Port McNeill":MAILTO:reception@portmcneill.ca
END:VEVENT
BEGIN:VEVENT
DTSTART;TZID=America/Vancouver:20210708T190000
DTEND;TZID=America/Vancouver:20210708T203000
DTSTAMP:20260423T033124
CREATED:20210228T223611Z
LAST-MODIFIED:20210228T223611Z
UID:1485-1625770800-1625776200@portmcneill.ca
SUMMARY:Harbour Advisory Meeting
DESCRIPTION:
URL:https://portmcneill.ca/event/harbour-advisory-meeting-4/
LOCATION:Harbour Office\, 1594 Beach Drive\, Port McNeill\, British Columbia\, V0N 2R0\, Canada
CATEGORIES:Port Mcneill Harbour Advisory Group Meetings
END:VEVENT
BEGIN:VEVENT
DTSTART;TZID=America/Vancouver:20210713T170000
DTEND;TZID=America/Vancouver:20210713T190000
DTSTAMP:20260423T033124
CREATED:20210708T215515Z
LAST-MODIFIED:20210708T215515Z
UID:2123-1626195600-1626202800@portmcneill.ca
SUMMARY:CHEK News and The Upside in Port McNeill!!
DESCRIPTION:Join Jeff King and Ed Bain next Tuesday\, July 13th between 5:00PM and 7:00PM at the Visitor Information Centre! \nPlease come down and say “Hello”
URL:https://portmcneill.ca/event/chek-news-and-the-upside-in-port-mcneill/
LOCATION:Harbour Office\, 1594 Beach Drive\, Port McNeill\, British Columbia\, V0N 2R0\, Canada
END:VEVENT
BEGIN:VEVENT
DTSTART;TZID=America/Vancouver:20210713T190000
DTEND;TZID=America/Vancouver:20210713T210000
DTSTAMP:20260423T033124
CREATED:20210709T170359Z
LAST-MODIFIED:20210714T012235Z
UID:2132-1626202800-1626210000@portmcneill.ca
SUMMARY:July 13\, 2021 Regular Council Meeting **CANCELLED**
DESCRIPTION:https://us02web.zoom.us/j/84742328276 \n 
URL:https://portmcneill.ca/event/july-13-2021-regular-council-meeting/
LOCATION:Zoom\, Canada
ORGANIZER;CN="Town of Port McNeill":MAILTO:reception@portmcneill.ca
END:VEVENT
BEGIN:VEVENT
DTSTART;TZID=America/Vancouver:20210720T190000
DTEND;TZID=America/Vancouver:20210720T210000
DTSTAMP:20260423T033124
CREATED:20210716T224412Z
LAST-MODIFIED:20210716T224632Z
UID:2140-1626807600-1626814800@portmcneill.ca
SUMMARY:July 20\, 2021 Regular Council Meeting
DESCRIPTION:Please join us for the July 20th Council Meeting. The Annual Report is there for your feedback!! \nZoom Link\n 
URL:https://portmcneill.ca/event/july-20-2021-regular-council-meeting/
LOCATION:Zoom\, Canada
ATTACH;FMTTYPE=image/jpeg:https://portmcneill.ca/wp-content/uploads/2021/05/IMG_1115.jpg
ORGANIZER;CN="Town of Port McNeill":MAILTO:reception@portmcneill.ca
END:VEVENT
END:VCALENDAR