BEGIN:VCALENDAR
VERSION:2.0
PRODID:-//Port Mcneill - ECPv6.15.18//NONSGML v1.0//EN
CALSCALE:GREGORIAN
METHOD:PUBLISH
X-ORIGINAL-URL:https://portmcneill.ca
X-WR-CALDESC:Events for Port Mcneill
REFRESH-INTERVAL;VALUE=DURATION:PT1H
X-Robots-Tag:noindex
X-PUBLISHED-TTL:PT1H
BEGIN:VTIMEZONE
TZID:America/Vancouver
BEGIN:DAYLIGHT
TZOFFSETFROM:-0800
TZOFFSETTO:-0700
TZNAME:PDT
DTSTART:20200308T100000
END:DAYLIGHT
BEGIN:STANDARD
TZOFFSETFROM:-0700
TZOFFSETTO:-0800
TZNAME:PST
DTSTART:20201101T090000
END:STANDARD
BEGIN:DAYLIGHT
TZOFFSETFROM:-0800
TZOFFSETTO:-0700
TZNAME:PDT
DTSTART:20210314T100000
END:DAYLIGHT
BEGIN:STANDARD
TZOFFSETFROM:-0700
TZOFFSETTO:-0800
TZNAME:PST
DTSTART:20211107T090000
END:STANDARD
BEGIN:DAYLIGHT
TZOFFSETFROM:-0800
TZOFFSETTO:-0700
TZNAME:PDT
DTSTART:20220313T100000
END:DAYLIGHT
BEGIN:STANDARD
TZOFFSETFROM:-0700
TZOFFSETTO:-0800
TZNAME:PST
DTSTART:20221106T090000
END:STANDARD
END:VTIMEZONE
BEGIN:VEVENT
DTSTART;TZID=America/Vancouver:20210907T090000
DTEND;TZID=America/Vancouver:20210907T110000
DTSTAMP:20260421T011550
CREATED:20210908T145651Z
LAST-MODIFIED:20210908T145929Z
UID:2262-1631005200-1631012400@portmcneill.ca
SUMMARY:Special Meeting of Council Sept 7\, 2021
DESCRIPTION:
URL:https://portmcneill.ca/event/special-meeting-of-council-sept-7-2021/
LOCATION:Zoom\, Canada
ATTACH;FMTTYPE=image/png:https://portmcneill.ca/wp-content/uploads/2020/09/council-image.png
ORGANIZER;CN="Town of Port McNeill":MAILTO:reception@portmcneill.ca
END:VEVENT
BEGIN:VEVENT
DTSTART;TZID=America/Vancouver:20210909T190000
DTEND;TZID=America/Vancouver:20210909T203000
DTSTAMP:20260421T011550
CREATED:20210228T223939Z
LAST-MODIFIED:20210228T223950Z
UID:1489-1631214000-1631219400@portmcneill.ca
SUMMARY:Harbour Advisory Meeting
DESCRIPTION:
URL:https://portmcneill.ca/event/harbour-advisory-meeting-6/
LOCATION:Harbour Office\, 1594 Beach Drive\, Port McNeill\, British Columbia\, V0N 2R0\, Canada
CATEGORIES:Port Mcneill Harbour Advisory Group Meetings
END:VEVENT
BEGIN:VEVENT
DTSTART;TZID=America/Vancouver:20210914T190000
DTEND;TZID=America/Vancouver:20210914T210000
DTSTAMP:20260421T011550
CREATED:20210910T170213Z
LAST-MODIFIED:20210910T170424Z
UID:2275-1631646000-1631653200@portmcneill.ca
SUMMARY:September 14th Special Council Meeting -7:00 PM
DESCRIPTION:  \nSpecial Council Meeting – 14 Sep 2021 – Agenda – Pdf \nJoin from a PC\, Mac\, iPad\, iPhone or Android device: \nPlease click this URL to join. https://us02web.zoom.us/j/83463252203 \nOr One tap mobile: \n+14388097799\,\,83463252203# Canada \n+15873281099\,\,83463252203# Canada \nOr join by phone: \nDial(for higher quality\, dial a number based on your current location): \nCanada: +1 438 809 7799  or +1 587 328 1099  or +1 647 374 4685  or +1 647 558 0588  or +1 778 907 2071  or +1 204 272 7920 \nWebinar ID: 834 6325 2203 \nInternational numbers available: https://us02web.zoom.us/u/kenAqbb7RI
URL:https://portmcneill.ca/event/september-14th-special-council-meeting-700-pm/
END:VEVENT
BEGIN:VEVENT
DTSTART;TZID=America/Vancouver:20210916T183000
DTEND;TZID=America/Vancouver:20210916T213000
DTSTAMP:20260421T011550
CREATED:20210910T171447Z
LAST-MODIFIED:20210910T171447Z
UID:2278-1631817000-1631827800@portmcneill.ca
SUMMARY:Tourism Advisory Committee -16-Sept-2021
DESCRIPTION:  \nTourism Advisory Committee – 16 Sep 2021 – Agenda \nJoin from a PC\, Mac\, iPad\, iPhone or Android device: \nPlease click this URL to join. https://us02web.zoom.us/j/89738822491 \nOr One tap mobile: \n+17789072071\,\,89738822491# Canada \n+12042727920\,\,89738822491# Canada \nOr join by phone: \nDial(for higher quality\, dial a number based on your current location): \nCanada: +1 778 907 2071  or +1 204 272 7920  or +1 438 809 7799  or +1 587 328 1099  or +1 647 374 4685  or +1 647 558 0588 \nWebinar ID: 897 3882 2491 \nInternational numbers available: https://us02web.zoom.us/u/kcydfMiZrP
URL:https://portmcneill.ca/event/tourism-advisory-committee-16-sept-2021/
END:VEVENT
BEGIN:VEVENT
DTSTART;TZID=America/Vancouver:20210928T080000
DTEND;TZID=America/Vancouver:20210928T170000
DTSTAMP:20260421T011550
CREATED:20210928T164934Z
LAST-MODIFIED:20210928T165114Z
UID:2345-1632816000-1632848400@portmcneill.ca
SUMMARY:Sept. 28th IGA OCP Survey & Sept. 29th Community Hall OCP Open House
DESCRIPTION:We still need to hear from you!\n\n\n\nToday Sept. 28th\, 2021 we will be at the IGA with a survey on key topics from our draft Official Community Plan (OCP)\, and you can enter to win one of two iPads (draw October 5th) at the event.\n\n\n\nTomorrow Sept. 29th\, 2021 we will be holding an Open House at the Community Hall. A public forum where you can review the proposed OCP and Zoning bylaw changes\, ask questions\, have discussion\, provide your comments\, and you can enter to win one of two iPads (draw October 5th) at the event.\n\n\n\nThe Final Draft OCP and Zoning Bylaw can be found on the Town’s Webpage: https://portmcneill.ca/\n\n\n\nCommunity survey here: https://www.surveymonkey.com/r/ZMMWQCC\n\n\n\nWe look forward to seeing and hearing from you !
URL:https://portmcneill.ca/event/sept-28th-iga-ocp-survey-sept-29th-community-hall-ocp-open-house/
END:VEVENT
BEGIN:VEVENT
DTSTART;TZID=America/Vancouver:20210928T190000
DTEND;TZID=America/Vancouver:20210928T210000
DTSTAMP:20260421T011550
CREATED:20210825T212525Z
LAST-MODIFIED:20210927T163624Z
UID:2256-1632855600-1632862800@portmcneill.ca
SUMMARY:September 28\, 2021 Regular Meeting of Council
DESCRIPTION:Regular Meeting of Council Sept. 28\, 2021 -7:00pm\n\n\nJoin from a PC\, Mac\, iPad\, iPhone or Android device:\nPlease click this URL to join. https://us02web.zoom.us/j/86996525619\n\n\nOr One tap mobile:\n+16473744685\,\,86996525619# Canada\n+16475580588\,\,86996525619# Canada\n\nAgenda -Regular Council Sept. 28 2021
URL:https://portmcneill.ca/event/september-28-2021-regular-meeting-of-council/
LOCATION:Town Office\, 1775 Grenville Place\, Port McNeill\, BC\, V0N 2R0\, Canada
ATTACH;FMTTYPE=image/jpeg:https://portmcneill.ca/wp-content/uploads/2021/05/IMG_1115.jpg
ORGANIZER;CN="Town of Port McNeill":MAILTO:admin@portmcneill.ca
END:VEVENT
END:VCALENDAR