BEGIN:VCALENDAR
VERSION:2.0
PRODID:-//Port Mcneill - ECPv6.15.18//NONSGML v1.0//EN
CALSCALE:GREGORIAN
METHOD:PUBLISH
X-ORIGINAL-URL:https://portmcneill.ca
X-WR-CALDESC:Events for Port Mcneill
REFRESH-INTERVAL;VALUE=DURATION:PT1H
X-Robots-Tag:noindex
X-PUBLISHED-TTL:PT1H
BEGIN:VTIMEZONE
TZID:America/Vancouver
BEGIN:DAYLIGHT
TZOFFSETFROM:-0800
TZOFFSETTO:-0700
TZNAME:PDT
DTSTART:20230312T100000
END:DAYLIGHT
BEGIN:STANDARD
TZOFFSETFROM:-0700
TZOFFSETTO:-0800
TZNAME:PST
DTSTART:20231105T090000
END:STANDARD
BEGIN:DAYLIGHT
TZOFFSETFROM:-0800
TZOFFSETTO:-0700
TZNAME:PDT
DTSTART:20240310T100000
END:DAYLIGHT
BEGIN:STANDARD
TZOFFSETFROM:-0700
TZOFFSETTO:-0800
TZNAME:PST
DTSTART:20241103T090000
END:STANDARD
BEGIN:DAYLIGHT
TZOFFSETFROM:-0800
TZOFFSETTO:-0700
TZNAME:PDT
DTSTART:20250309T100000
END:DAYLIGHT
BEGIN:STANDARD
TZOFFSETFROM:-0700
TZOFFSETTO:-0800
TZNAME:PST
DTSTART:20251102T090000
END:STANDARD
END:VTIMEZONE
BEGIN:VEVENT
DTSTART;VALUE=DATE:20240223
DTEND;VALUE=DATE:20240225
DTSTAMP:20260424T172334
CREATED:20240125T224250Z
LAST-MODIFIED:20240125T224250Z
UID:5451-1708646400-1708819199@portmcneill.ca
SUMMARY:The Broughton Curling Club Funspiel
DESCRIPTION:
URL:https://portmcneill.ca/event/the-broughton-curling-club-funspiel/
LOCATION:Broughton Curling Club\, 2203 Campbell Way\, Port McNeill\, BC\, V0N 2R0\, Canada
CATEGORIES:Community Events
ATTACH;FMTTYPE=image/jpeg:https://portmcneill.ca/wp-content/uploads/2024/01/Funspiel-2024.jpg
END:VEVENT
END:VCALENDAR